BEGIN:VCALENDAR

VERSION:2.0

PRODID:-//hacksw/handcal//NONSGML v1.0//EN

BEGIN:VEVENT

UID:9b43b08b6459c4824ad9b3b2e260f1d2

DTSTAMP:20260420T114218Z

DTSTART:20260425T110000

DTEND:20260425T113000

SUMMARY:L40133827 - 8-10 Clifford Street, ASCOT PARK SA 5043

LOCATION:8-10 Clifford Street, ASCOT PARK SA 5043

END:VEVENT

END:VCALENDAR