BEGIN:VCALENDAR

VERSION:2.0

PRODID:-//hacksw/handcal//NONSGML v1.0//EN

BEGIN:VEVENT

UID:5195bf83e6b99b155dfdbd9fee544408

DTSTAMP:20260422T140409Z

DTSTART:20260425T120000

DTEND:20260425T122000

SUMMARY:R4251120 - 36 Glynville Dr, HACKHAM WEST SA 5163

LOCATION:36 Glynville Dr, HACKHAM WEST SA 5163

END:VEVENT

END:VCALENDAR