BEGIN:VCALENDAR

VERSION:2.0

PRODID:-//hacksw/handcal//NONSGML v1.0//EN

BEGIN:VEVENT

UID:280d95c6363a6e869e712adcac683d8c

DTSTAMP:20260422T140108Z

DTSTART:20260425T103000

DTEND:20260425T105000

SUMMARY:R4251045 - 3/13 Adelaide Street, MAYLANDS SA 5069

LOCATION:3/13 Adelaide Street, MAYLANDS SA 5069

END:VEVENT

END:VCALENDAR